BEGIN:VCALENDAR
VERSION:2.0
PRODID:-//Olmix - ECPv6.15.20//NONSGML v1.0//EN
CALSCALE:GREGORIAN
METHOD:PUBLISH
X-WR-CALNAME:Olmix
X-ORIGINAL-URL:https://olmix.com/fr/
X-WR-CALDESC:Évènements pour Olmix
REFRESH-INTERVAL;VALUE=DURATION:PT1H
X-Robots-Tag:noindex
X-PUBLISHED-TTL:PT1H
BEGIN:VTIMEZONE
TZID:UTC
BEGIN:STANDARD
TZOFFSETFROM:+0000
TZOFFSETTO:+0000
TZNAME:UTC
DTSTART:20250101T000000
END:STANDARD
END:VTIMEZONE
BEGIN:VEVENT
DTSTART;VALUE=DATE:20260422
DTEND;VALUE=DATE:20260425
DTSTAMP:20260421T085039
CREATED:20260409T125330Z
LAST-MODIFIED:20260409T125714Z
UID:15097-1776816000-1777075199@olmix.com
SUMMARY:ICPIH 2026 | Animal Care
DESCRIPTION:[vc_row type= »in_container » full_screen_row_position= »middle » column_margin= »default » column_direction= »default » column_direction_tablet= »default » column_direction_phone= »default » scene_position= »center » constrain_group_2= »yes » text_color= »dark » text_align= »left » row_border_radius= »none » row_border_radius_applies= »bg » overflow= »visible » overlay_strength= »0.3″ gradient_direction= »left_to_right » shape_divider_position= »bottom » bg_image_animation= »none » gradient_type= »default » shape_type= » »][vc_column column_padding= »no-extra-padding » column_padding_tablet= »inherit » column_padding_phone= »inherit » column_padding_position= »all » column_element_direction_desktop= »default » column_element_spacing= »default » desktop_text_alignment= »default » tablet_text_alignment= »default » phone_text_alignment= »default » background_color_opacity= »1″ background_hover_color_opacity= »1″ column_backdrop_filter= »none » column_shadow= »none » column_border_radius= »none » column_link_target= »_self » column_position= »default » gradient_direction= »left_to_right » overlay_strength= »0.3″ width= »1/1″ tablet_width_inherit= »default » animation_type= »default » bg_image_animation= »none » border_type= »simple » column_border_width= »none » column_border_style= »solid »][vc_column_text el_class= »med »]\nOlmix participera à la 9ᵉ Conférence Internationale sur la Santé Intestinale de la Volaille à Istanbul\, en Turquie\, un événement international majeur réunissant des experts dédiés à l’amélioration de la santé et des performances des volailles. La conférence présentera les dernières avancées scientifiques et innovations en matière de santé intestinale\, incluant la gestion du microbiote\, les stratégies alimentaires alternatives\, la réduction des antibiotiques et des solutions durables favorisant le bien-être animal et la productivité. \nPrésentation scientifique\nTitre : Impact des additifs alimentaires à base de levure sur la performance de croissance et les réponses immunitaires des poulets de chair soumis à un challenge d’entérite nécrotique \nIntervenante :Leandro RoyoOlmix \nNous sommes impatients d’échanger avec les experts du secteur et de partager notre engagement envers des solutions intelligentes et durables pour le bien-être animal. \n[/vc_column_text][/vc_column][/vc_row][vc_row type= »in_container » full_screen_row_position= »middle » column_margin= »default » column_direction= »default » column_direction_tablet= »default » column_direction_phone= »default » bg_image= »https://olmix.com/wp-content/uploads/2026/04/engin-yapici-WA1u0scVLZU-unsplash-2-scaled.jpg » bg_position= »center center » background_image_loading= »default » bg_repeat= »no-repeat » scene_position= »center » text_color= »dark » text_align= »left » row_border_radius= »none » row_border_radius_applies= »bg » overflow= »visible » overlay_strength= »0.3″ gradient_direction= »left_to_right » shape_divider_position= »bottom » bg_image_animation= »none » parallax_bg= »true » parallax_bg_speed= »medium » gradient_type= »default » shape_type= » »][vc_column column_padding= »no-extra-padding » column_padding_tablet= »inherit » column_padding_phone= »inherit » column_padding_position= »all » column_element_direction_desktop= »default » column_element_spacing= »default » desktop_text_alignment= »default » tablet_text_alignment= »default » phone_text_alignment= »default » background_color_opacity= »1″ background_hover_color_opacity= »1″ column_backdrop_filter= »none » column_shadow= »none » column_border_radius= »none » column_link_target= »_self » column_position= »default » gradient_direction= »left_to_right » overlay_strength= »0.3″ width= »1/1″ tablet_width_inherit= »default » animation_type= »default » bg_image_animation= »none » border_type= »simple » column_border_width= »none » column_border_style= »solid »][divider line_type= »No Line » custom_height= »300″][/vc_column][/vc_row][vc_row type= »in_container » full_screen_row_position= »middle » column_margin= »5px » column_direction= »default » column_direction_tablet= »default » column_direction_phone= »default » scene_position= »center » text_color= »dark » text_align= »center » row_border_radius= »none » row_border_radius_applies= »bg » overflow= »visible » class= »small » overlay_strength= »0.3″ gradient_direction= »left_to_right » shape_divider_position= »bottom » bg_image_animation= »none » gradient_type= »default » shape_type= » »][vc_column column_padding= »padding-2-percent » column_padding_tablet= »inherit » column_padding_phone= »inherit » column_padding_position= »all » column_element_direction_desktop= »default » column_element_spacing= »0px » desktop_text_alignment= »default » tablet_text_alignment= »default » phone_text_alignment= »default » background_color_opacity= »1″ background_hover_color_opacity= »1″ column_backdrop_filter= »none » column_shadow= »none » column_border_radius= »none » column_link_target= »_self » column_position= »default » gradient_direction= »left_to_right » overlay_strength= »0.3″ width= »1/4″ tablet_width_inherit= »default » animation_type= »default » bg_image_animation= »none » border_type= »simple » column_border_width= »1px » column_border_color= »#e5e5e5″ column_border_style= »solid » column_padding_type= »default » gradient_type= »default »][vc_column_text el_class= »small »]Pays[/vc_column_text][vc_column_text]Turquie[/vc_column_text][/vc_column][vc_column column_padding= »padding-2-percent » column_padding_tablet= »inherit » column_padding_phone= »inherit » column_padding_position= »all » column_element_direction_desktop= »default » column_element_spacing= »0px » desktop_text_alignment= »default » tablet_text_alignment= »default » phone_text_alignment= »default » background_color_opacity= »1″ background_hover_color_opacity= »1″ column_backdrop_filter= »none » column_shadow= »none » column_border_radius= »none » column_link_target= »_self » column_position= »default » gradient_direction= »left_to_right » overlay_strength= »0.3″ width= »1/4″ tablet_width_inherit= »default » animation_type= »default » bg_image_animation= »none » border_type= »simple » column_border_width= »1px » column_border_color= »#e5e5e5″ column_border_style= »solid » column_padding_type= »default » gradient_type= »default »][vc_column_text]Activité d’Olmix[/vc_column_text][vc_column_text]Animal Care[/vc_column_text][/vc_column][vc_column column_padding= »padding-2-percent » column_padding_tablet= »inherit » column_padding_phone= »inherit » column_padding_position= »all » column_element_direction_desktop= »default » column_element_spacing= »0px » desktop_text_alignment= »default » tablet_text_alignment= »default » phone_text_alignment= »default » background_color_opacity= »1″ background_hover_color_opacity= »1″ column_backdrop_filter= »none » column_shadow= »none » column_border_radius= »none » column_link_target= »_self » column_position= »default » gradient_direction= »left_to_right » overlay_strength= »0.3″ width= »1/4″ tablet_width_inherit= »default » animation_type= »default » bg_image_animation= »none » border_type= »simple » column_border_width= »1px » column_border_color= »#e5e5e5″ column_border_style= »solid » column_padding_type= »default » gradient_type= »default »][vc_column_text]Type d’événement[/vc_column_text][vc_column_text]Salon[/vc_column_text][/vc_column][vc_column column_padding= »padding-2-percent » column_padding_tablet= »inherit » column_padding_phone= »inherit » column_padding_position= »all » column_element_direction_desktop= »default » column_element_spacing= »0px » desktop_text_alignment= »default » tablet_text_alignment= »default » phone_text_alignment= »default » background_color_opacity= »1″ background_hover_color_opacity= »1″ column_backdrop_filter= »none » column_shadow= »none » column_border_radius= »none » column_link_target= »_self » column_position= »default » gradient_direction= »left_to_right » overlay_strength= »0.3″ width= »1/4″ tablet_width_inherit= »default » animation_type= »default » bg_image_animation= »none » border_type= »simple » column_border_width= »1px » column_border_color= »#e5e5e5″ column_border_style= »solid » column_padding_type= »default » gradient_type= »default »][vc_column_text]Action d’Olmix[/vc_column_text][vc_column_text]Stand et présentation scientifique[/vc_column_text][/vc_column][/vc_row]
URL:https://olmix.com/fr/event/icpih-2026-animal-care/
LOCATION:Istanbul\, Turkey
CATEGORIES:Salon
ATTACH;FMTTYPE=image/jpeg:https://olmix.com/wp-content/uploads/2026/04/engin-yapici-WA1u0scVLZU-unsplash-2-scaled.jpg
END:VEVENT
BEGIN:VEVENT
DTSTART;VALUE=DATE:20260616
DTEND;VALUE=DATE:20260618
DTSTAMP:20260421T085039
CREATED:20260223T141613Z
LAST-MODIFIED:20260223T142931Z
UID:15049-1781568000-1781740799@olmix.com
SUMMARY:Aquaculture UK 2026 | Animal Care
DESCRIPTION:[vc_row type= »in_container » full_screen_row_position= »middle » column_margin= »default » column_direction= »default » column_direction_tablet= »default » column_direction_phone= »default » scene_position= »center » constrain_group_2= »yes » text_color= »dark » text_align= »left » row_border_radius= »none » row_border_radius_applies= »bg » overflow= »visible » overlay_strength= »0.3″ gradient_direction= »left_to_right » shape_divider_position= »bottom » bg_image_animation= »none » gradient_type= »default » shape_type= » »][vc_column column_padding= »no-extra-padding » column_padding_tablet= »inherit » column_padding_phone= »inherit » column_padding_position= »all » column_element_direction_desktop= »default » column_element_spacing= »default » desktop_text_alignment= »default » tablet_text_alignment= »default » phone_text_alignment= »default » background_color_opacity= »1″ background_hover_color_opacity= »1″ column_backdrop_filter= »none » column_shadow= »none » column_border_radius= »none » column_link_target= »_self » column_position= »default » gradient_direction= »left_to_right » overlay_strength= »0.3″ width= »1/1″ tablet_width_inherit= »default » animation_type= »default » bg_image_animation= »none » border_type= »simple » column_border_width= »none » column_border_style= »solid »][vc_column_text el_class= »med »]\nOlmix participera à Aquaculture UK\, un événement international majeur réunissant les acteurs clés de l’aquaculture. L’exposition et les conférences mettent en avant les dernières innovations en élevage de poissons : intelligence artificielle\, systèmes intelligents\, technologies RAS\, stratégies alimentaires alternatives et solutions pour la santé et la durabilité des poissons. \nPrésentation scientifique\nTitre : Comparaison à long terme des extraits de macroalgues vertes et rouges et des β-glucanes sur la résistance aux maladies\, l’intégrité branchiale et la croissance de la truite arc-en-ciel \nIntervenante :Raquel Tatiane PereiraOlmix \nNous serons ravis de rencontrer les acteurs du secteur et de partager nos recherches pour une aquaculture intelligente et durable. \n[/vc_column_text][/vc_column][/vc_row][vc_row type= »in_container » full_screen_row_position= »middle » column_margin= »default » column_direction= »default » column_direction_tablet= »default » column_direction_phone= »default » bg_image= »https://olmix.com/wp-content/uploads/2026/02/adam-marikar-7vJX8cIgLao-unsplash-scaled.jpg » bg_position= »center center » background_image_loading= »default » bg_repeat= »no-repeat » scene_position= »center » text_color= »dark » text_align= »left » row_border_radius= »none » row_border_radius_applies= »bg » overflow= »visible » overlay_strength= »0.3″ gradient_direction= »left_to_right » shape_divider_position= »bottom » bg_image_animation= »none » parallax_bg= »true » parallax_bg_speed= »medium » gradient_type= »default » shape_type= » »][vc_column column_padding= »no-extra-padding » column_padding_tablet= »inherit » column_padding_phone= »inherit » column_padding_position= »all » column_element_direction_desktop= »default » column_element_spacing= »default » desktop_text_alignment= »default » tablet_text_alignment= »default » phone_text_alignment= »default » background_color_opacity= »1″ background_hover_color_opacity= »1″ column_backdrop_filter= »none » column_shadow= »none » column_border_radius= »none » column_link_target= »_self » column_position= »default » gradient_direction= »left_to_right » overlay_strength= »0.3″ width= »1/1″ tablet_width_inherit= »default » animation_type= »default » bg_image_animation= »none » border_type= »simple » column_border_width= »none » column_border_style= »solid »][divider line_type= »No Line » custom_height= »300″][/vc_column][/vc_row][vc_row type= »in_container » full_screen_row_position= »middle » column_margin= »5px » column_direction= »default » column_direction_tablet= »default » column_direction_phone= »default » scene_position= »center » text_color= »dark » text_align= »center » row_border_radius= »none » row_border_radius_applies= »bg » overflow= »visible » class= »small » overlay_strength= »0.3″ gradient_direction= »left_to_right » shape_divider_position= »bottom » bg_image_animation= »none » gradient_type= »default » shape_type= » »][vc_column column_padding= »padding-2-percent » column_padding_tablet= »inherit » column_padding_phone= »inherit » column_padding_position= »all » column_element_direction_desktop= »default » column_element_spacing= »0px » desktop_text_alignment= »default » tablet_text_alignment= »default » phone_text_alignment= »default » background_color_opacity= »1″ background_hover_color_opacity= »1″ column_backdrop_filter= »none » column_shadow= »none » column_border_radius= »none » column_link_target= »_self » column_position= »default » gradient_direction= »left_to_right » overlay_strength= »0.3″ width= »1/4″ tablet_width_inherit= »default » animation_type= »default » bg_image_animation= »none » border_type= »simple » column_border_width= »1px » column_border_color= »#e5e5e5″ column_border_style= »solid » column_padding_type= »default » gradient_type= »default »][vc_column_text el_class= »small »]Pays[/vc_column_text][vc_column_text]Ecosse[/vc_column_text][/vc_column][vc_column column_padding= »padding-2-percent » column_padding_tablet= »inherit » column_padding_phone= »inherit » column_padding_position= »all » column_element_direction_desktop= »default » column_element_spacing= »0px » desktop_text_alignment= »default » tablet_text_alignment= »default » phone_text_alignment= »default » background_color_opacity= »1″ background_hover_color_opacity= »1″ column_backdrop_filter= »none » column_shadow= »none » column_border_radius= »none » column_link_target= »_self » column_position= »default » gradient_direction= »left_to_right » overlay_strength= »0.3″ width= »1/4″ tablet_width_inherit= »default » animation_type= »default » bg_image_animation= »none » border_type= »simple » column_border_width= »1px » column_border_color= »#e5e5e5″ column_border_style= »solid » column_padding_type= »default » gradient_type= »default »][vc_column_text]Activité d’Olmix[/vc_column_text][vc_column_text]Animal Care[/vc_column_text][/vc_column][vc_column column_padding= »padding-2-percent » column_padding_tablet= »inherit » column_padding_phone= »inherit » column_padding_position= »all » column_element_direction_desktop= »default » column_element_spacing= »0px » desktop_text_alignment= »default » tablet_text_alignment= »default » phone_text_alignment= »default » background_color_opacity= »1″ background_hover_color_opacity= »1″ column_backdrop_filter= »none » column_shadow= »none » column_border_radius= »none » column_link_target= »_self » column_position= »default » gradient_direction= »left_to_right » overlay_strength= »0.3″ width= »1/4″ tablet_width_inherit= »default » animation_type= »default » bg_image_animation= »none » border_type= »simple » column_border_width= »1px » column_border_color= »#e5e5e5″ column_border_style= »solid » column_padding_type= »default » gradient_type= »default »][vc_column_text]Type d’événement[/vc_column_text][vc_column_text]Salon[/vc_column_text][/vc_column][vc_column column_padding= »padding-2-percent » column_padding_tablet= »inherit » column_padding_phone= »inherit » column_padding_position= »all » column_element_direction_desktop= »default » column_element_spacing= »0px » desktop_text_alignment= »default » tablet_text_alignment= »default » phone_text_alignment= »default » background_color_opacity= »1″ background_hover_color_opacity= »1″ column_backdrop_filter= »none » column_shadow= »none » column_border_radius= »none » column_link_target= »_self » column_position= »default » gradient_direction= »left_to_right » overlay_strength= »0.3″ width= »1/4″ tablet_width_inherit= »default » animation_type= »default » bg_image_animation= »none » border_type= »simple » column_border_width= »1px » column_border_color= »#e5e5e5″ column_border_style= »solid » column_padding_type= »default » gradient_type= »default »][vc_column_text]Action d’Olmix[/vc_column_text][vc_column_text]Présentation scientifique[/vc_column_text][/vc_column][/vc_row]
URL:https://olmix.com/fr/event/aquaculture-uk-2026-animal-care/
LOCATION:Glasgow\, United Kingdom
CATEGORIES:Salon
ATTACH;FMTTYPE=image/jpeg:https://olmix.com/wp-content/uploads/2026/01/pascal-bernardon-2MK0B5T6N9k-unsplash-scaled.jpg
END:VEVENT
END:VCALENDAR